Workbook
Name TitleRegion1..AG6: Calendar!#REF!
Name TitleRegion10..AG51: Calendar!#REF!
Name TitleRegion11..AG56: Calendar!#REF!
Name TitleRegion12..AG61: Calendar!#REF!
Name TitleRegion2..AG11: Calendar!#REF!
Name TitleRegion3..AG16: Calendar!#REF!
Name TitleRegion4..AG21: Calendar!#REF!
Name TitleRegion5..AG26: Calendar!#REF!
Name TitleRegion6..AG31: Calendar!#REF!
Name TitleRegion7..AG36: Calendar!#REF!
Name TitleRegion8..AG41: Calendar!#REF!
Name TitleRegion9..AG46: Calendar!#REF!

Sheet Calendar
A1: 2025-26 | B1: INFINITY ACADEMIC CALENDAR V1
B2: WEEK NO | C2: W/C | D2: Trust Wide Events | E2: Assessment | F2: School Improvement Cycle | G2: Headteacher/Deputies | H2: CEO Visits | I2: Exec Team | J2: Audits | K2: Safeguarding | L2: Network Meeting Lincoln | M2: Network Meeting Boston | N2: Statutory Assessment | O2: Moderation Lincoln | P2: Moderation Boston | Q2: Site | R2: Residential Trips | S2: AMC Activity | T2: Staff Champions | U2: FAR | V2: SSC | W2: Trustee
A3: SEPTEMBER | B3: 1 | C3: 45901 | D3: INSET day 02-09-2025 (Conference) & 03-09-2025 | E3: SSC Report Writing | F3: Trust Development work | N3: Reception Baseline
B4: 2 | C4: 45908 | E4: CEO Review | F4: Strategy Visits and Academy Improvement work | H4: St Peters-in-Eastgate CE Primary Academy 10-09-2025 - 1.00pm - 3.00pm + Assembly | I4: Core Services - Boston - 08-09-2025 9.30am-12.00pm | L4: Maths Network - 08-09-2025 Lincoln | M4: Maths network 09-09-2025 Boston | N4: Reception Baseline | S4: Summer AMC Chairs 11-09-2025 6.00pm
B5: 3 | C5: 45915 | E5: Week for Reports | F5: Strategy Visits and Academy Improvement work | H5: Leadenham CE Primary Academy 17-09-2025 - 9.30am-12.00pm + Assembly | I5: Exec Team - Lincoln - 15-09-2025 9.30am-12.00pm | N5: Reception Baseline | R5: HPA/STM/WBA Y6 Kingswood 17-09-2025 | S5: Autumn IGM 18-09-2025 6.00pm
B6: 4 | C6: 45922 | E6: SSc | F6: Strategy Visits and Academy Improvement work | G6: HT ALL DAY Tues Deps ALL DAY Thurs | H6: Little Gonerby CE Primary Academy 26-09-2025 - 9.30am-12.00pm | I6: Education Team Exec Team Meeting - Lincoln - 22-09-2025 9.30am-12.00pm | J6: Maths x2 | L6: Reading network - 24-09-2025 Lincoln | M6: Reading network 25-09-2025 Boston | N6: Reception Baseline | V6: SSC (Data) 24-09-2025
B7: 5 | C7: 45929 | F7: Strategy Visits and Academy Improvement work | H7: St.Thomas' CE Primary Academy 01-10-2025 - 9.30am-12.00pm | I7: Exec Team - Boston - 29-09-2025 9.30am-12.00pm | J7: Maths x2 | L7: Writing network - 29-09-2025 Lincoln | M7: Writing network 02- 10- 2025 Boston | N7: Reception Baseline | R7: BST Y6 PGL 29-09-2025 | S7: Individual School Briefing Meeting | W7: TRUSTEE 29-09-2025
B9: 6 | C9: 45936 | F9: HT Appraisal and Academy Improvement work | G9: HT/Deps Call Tues 9.30 - 10.30am | H9: Coleby CE Primary Academy 09-10-2025 - 9.30am - 12.00pm + Assembly | I9: Core Services - Boston - 06-10-2025 9.30am-12.00pm | J9: Maths x2 | L9: SEND - 07-10-2025 - LEARN SEND HUB | N9: Reception Baseline | R9: SPA Y6 PGL 06-10-10-2025 | S9: Individual School Briefing Meeting
M10: RE Network 09-10-2025 9.30am-3.30pm
A11: OCTOBER | B11: 7 | C11: 45943 | E11: EYFS Baseline on Insight | F11: HT Appraisal and Academy Improvement work | G11: Teaching staff appraisals to have been completed | H11: Willoughby St Helena's CE Primary Academy 14-10-2025 9.30am-12.00pm + Assembly | I11: Exec Team - Lincoln - 13-10-2025 9.30am-12.00pm | J11: Maths x2 | K11: 16-10-25 15.30 - 16.30 IAT Essentials mop up | S11: Individual School Briefing Meeting
B12: 8 | C12: 45950 | F12: HT Appraisal and Academy Improvement work | H12: Pinchbeck East CE Primary Academy 23-10-2025 - 9.30am-12.00pm | I12: Education Team Exec Team Meeting - Lincoln - 20-10-2025 9.30am-12.00pm | J12: Maths x3
B13: HALF TERM | C13: 45957
B14: 9 | C14: 45964 | D14: Whole Trust Subject PDM (Teams) 05-11-2025 - 15:45 - 16:45 | F14: Trust Development and Academy Improvement work | G14: Support staff appraisals to have been completed | H14: Spalding Primary Academy - 04-11-2025 - 9.30am-12.00pm | I14: Exec Team - Boston - 03-11-2025 9.30am - 12.00pm | J14: Maths x1 | O14: Year 1 and Year 2 06-11-2025
B15: 10 | C15: 45971 | D15: Standards Committtee | E15: Assessment Week | F15: Trust Development and Academy Improvement work | G15: HT ALL DAY Tues Deps ALL DAY Thurs | H15: Gipsey Bridge Academy 10-11-2025 - 1.30-3.30pm | I15: Core Services - Boston - 10-11-2025 9.30am-12.00pm | J15: Maths x1 | P15: Year 1 and Year 2 11.11.25
A16: NOVEMBER | B16: 11 | C16: 45978 | E16: Assessment Week | F16: Trust Development and Academy Improvement work | H16: St Martin's CE Primary Academy 20-11-2025 9.30am-12.00pm | I16: Exec Team - Lincoln - 17-11-2025 9.30am-12.00pm | J16: Maths x2 | O16: Year 3 and Year 4 18-11-2025 | P16: Year 3 and Year 4 20.11.25 | Q16: Site Staff Meeting 19-11-2024 9:30-12.00 (HQ) Cancelled | T16: 18-11-2025 15:40 - 16:40
B17: 12 | C17: 45985 | E17: Marking | F17: Trust Development and Academy Improvement work | H17: Wyberton Primary Academy 27-11-2025 - 9.30am-12.00pm | I17: Education Team Exec Team Meeting - Lincoln - 24-11-2025 9.30am-12.00pm | J17: Maths x2 | M17: RE Network Meeting 26-11-2025 1.30-3.30pm | O17: Year 5 and Year 6 25-11-2025 | P17: Year 5 and Year 6 27-11-2025 | U17: FAR Committee 25-11-2025 6.00-7.30pm
A18: DECEMBER | B18: 13 | C18: 45992 | E18: INSIGHT / Pupil Progress | F18: Trust Development and Academy Improvement work | G18: HT/Deps Call Tues 9.30 - 10.30am | H18: Haxey CE Primary School 04-12-2025 -9.30am-12.00pm | I18: Exec Team - Boston - 01-12-2025 9.30am - 12.00pm | J18: Maths x2 | K18: 01-12-25 09.30 - 10.30 IAT Essentials mop up training
B19: 14 | C19: 45999 | E19: Data Dashboard HT / ED Moderation | F19: Moderation of data and Academy Improvement work | H19: Spilsby Primary Academy 11-12-2025 - 9.30am-12.00pm | I19: Core Services - Boston - 08-12-2025 9.30am-12.00pm | S19: Autumn Chairs Meeting 11-12-2024 6pm
B20: 15 | C20: 46006 | F20: Moderation of data and Academy Improvement work | H20: West Butterwick CE Primary Academy 17-12-2025 - 9.30am-12.00pm | I20: Exec Team - Lincoln - 15-12-2025 9.30am-12.00pm | W20: AGM and TRUSTEE 16-12-2025
B21: CHRISTMAS | C21: 46013
B22: BREAK | C22: 46020
A23: JANUARY | B23: 16 | C23: 46027 | D23: 05-01-2026 Inset Day | E23: SSC Report Writing | F23: Impact Visits and Academy Improvement work | H23: Long Bennington CE Primary Academy 07-01-2026 - 9.30am-12.00pm Hold for Allington with Sedgebrook CE Primary School | I23: Education Team Exec Team Meeting - Lincoln - 06-01-2026 9.30am-12.00pm
B24: 17 | C24: 46034 | E24: CEO Review | F24: Impact Visits and Academy Improvement work | H24: St. Nicholas CE Primary Academy 14-01-2026 - 9.30am-12.00pm | I24: Exec Team - Boston - 12-01-2026 9.30am - 12.00pm
B25: 18 | C25: 46041 | E25: Papers | F25: Impact Visits and Academy Improvement work | G25: HT ALL DAY Wed Deps ALL DAY Thurs | H25: St-Peter-in-Eastgate CE Primary Academy 23-01-2026 9.30am - 12.00pm | I25: Core Services - Boston - 19-01-2026 9.30am-12.00pm | J25: Writing x2 | L25: Writing network - 20-01-2026 Lincoln | M25: Writing network - 22-01-2026 Boston | S25: Spring IGM 21-01-2025 6.00-7.30pm | W25: Members AGM 20-01-2025 17:30-18:30
B26: 19 | C26: 46048 | D26: Standards Committtee | E26: SSC | F26: Strategy Visits and Academy Improvement work | H26: Little Gonerby CE Primary Academy - 29-01-2026 - 9.30am-12.00pm + Assembly | I26: Exec Team - Lincoln - 26-01-2026 9.30am-12.00pm | J26: Writing x2 | L26: Reading network - 27-01-2026 Lincoln | M26: Reading network - 29-01-2026 Boston | V26: SSC 29-01-2026
A28: FEBRUARY | B28: 20 | C28: 46055 | E28: Assessment Week | F28: Strategy Visits and Academy Improvement work | G28: HT/Deps Call Tues 9.30 - 10.30am | H28: Scampton Pollyplatt Community Primary School 05-02-2026 9.30am-12.00pm Scampton CE Primary School 05-02-2026 1.30-3.00pm | I28: Education Team Exec Team Meeting - Lincoln - 02-02-2026 9.30am-12.00pm | J28: Writing x2 | L28: Maths network - 03-02-2026 Lincoln | M28: Maths network - 05-02-2026 Boston
B29: 21 | C29: 46062 | E29: Assessment Week | F29: Strategy Visits and Academy Improvement work | H29: St Thomas' CE Primary Academy 12-02-2026 9.30am - 12.00pm + Assembly | I29: Exec Team - Boston - 09-02-2026 9.30am - 12.00pm | J29: Writing x2 | S29: Individual School Briefing Meeting
B30: HALF TERM | C30: 46069
B31: 22 | C31: 46076 | E31: Marking | F31: HT mid cycle Appraisal and Academy Improvement work | H31: Coleby CE Primary Academy 26-02-2026 9.30am-12.00pm | I31: Core Services - Boston - 23-02-2026 9.30am-12.00pm | J31: Writing x2 | O31: Year 1 and Year 2 24-02-2026 | P31: Year 1 and Year 2 26-02-2026 | R31: WBA Y6 Ogwen 23-02-2026 | S31: Individual School Briefing Meeting
A32: MARCH | B32: 23 | C32: 46083 | E32: INSIGHT / Pupil Progress | F32: HT mid cycle Appraisal and Academy Improvement work | G32: HT ALL DAY Tues Deps ALL DAY Thurs | H32: Willoughby St Helena's CE Primary Academy 04-03-2026 9.30am-12.00pm | I32: Exec Team - Lincoln - 02-03-2026 9.30am-12.00pm | J32: Writing x2 | N32: Hold for DSL conference in Sheffield | O32: Year 3 and Year 4 02-03-2026 | P32: Year 3 and Year 4 06-03-2026 | Q32: Site Staff Meeting 04-03-2025 9:30-12.00 (LGA) | R32: LBA Y4 PGL 02-03-2026 - 04-03-2026
B33: 24 | C33: 46090 | E33: Data Dashboard HT / ED Moderation | F33: Moderation of Data and Academy Improvement work | H33: Pinchbeck East CE Primary 12-03-2026 - 9.30am-12.00pm + Assembly | I33: Education Team Exec Team Meeting - Lincoln - 09-03-2026 9.30am-12.00pm | J33: Writing x2 | L33: SEND - 11-03-2026 - LEARN SEND HUB | N33: Hold for DSL conference in Sheffield | O33: Year 5 and Year 6 10-03-2026 | P33: Year 5 and Year 6 12-03-2026 | U33: FAR Committee 10-03-2026 6.00-7.30pm
B34: 25 | C34: 46097 | F34: Impact Vistis and Academy Improvement work | H34: St.Martin's CE Primary School - 19-03-2026 - 9.30am-12.00pm + Assembly | I34: Exec Team - Boston - 16-03-2026 9.30am - 12.00pm | J34: Writing x3
B35: 26 | C35: 46104 | E35: SSc Report Writing | F35: Impact Visits and Academy Improvement work | G35: Mid-year teaching staff appraisals to have been completed | H35: Leadenham CE Primary Academy - 26-03-2026 - 9.30am-12.00pm | I35: Core Services - Boston - 23-03-2026 9.30am-12.00pm | J35: Writing x2 | S35: Spring Chairs Meeting 26-03-2025
B37: 27 | C37: 46111 | E37: CEO Review | F37: Impact Visits and Academy Improvement work | G37: HT/Deps Call Tues 9.30 - 10.30am | H37: Spalding Primary Academy 02-04-2026 9.30am - 12.00pm + Assembly | I37: Exec Team - Lincoln - 30-03-2026 9.30am-12.00pm | L37: Reading network 31.3.26 Teams 15.30-16.30 | R37: LBA Y5 London 30/03 - 01-04-2026 | W37: TRUSTEE 30-03-2026
A38: APRIL | B38: EASTER | C38: 46118
B39: HOLIDAYS | C39: 46125
B40: 28 | C40: 46132 | D40: 20-04-2026 Inset Day - TA Conference | E40: Week for Reports | F40: Strategy Visits and Academy Improvement work | H40: (20th TA Conference) | I40: (20th TA Conference) | J40: Reading x3 | L40: Writing network 21.04.26 Teams 15.30 - 16.30
B41: 29 | C41: 46139 | D41: Whole Trust Subject PDM (Teams) 29-04-2026 15:45-16:45 | E41: SSC | F41: Strategy Visits and Academy Improvement work | H41: Scampton Pollyplatt Community Primary School 05-02-2026 9.30am-12.00pm Scampton CE Primary School 05-02-2026 1.30-3.00pm | I41: Education Team Exec Team Meeting - Lincoln - 27-04-2026 9.30am-12.00pm | J41: Reading x1 | V41: SSC- 30-04-2026
A42: MAY | B42: 30 | C42: 46146 | F42: Strategy Visits and Academy Improvement work | G42: HT ALL DAY Wed Deps ALL DAY Thurs | H42: (4th BH) | I42: (4th BH) | J42: Reading x1 (LGA) | L42: Maths network - 05-05-2026 Teams 15.30 - 16.30 | S42: Summer IGM 06-05-2026
B43: 31 | C43: 46153 | F43: KS2 SATs monitoring | H43: (Avoid for SATs) | I43: (Avoid for SATs) | N43: KS2 SATs
B44: 32 | C44: 46160 | E44: Heads/Ops Assessment data input - 19-05-2026 Teams - recap/discussion (Teams) 13:00-13:30 | F44: Review Academy Improvement process for 2026/2027 | H44: Wyberton Primary Academy 21-05-2026 - 9.30am-12.00pm + Assembly | I44: Exec Team - Boston - 18-05-2026 9.30am - 12.00pm | J44: Reading x2 | R44: LBA Y5 & 6 Derbyshire 18-05 - 22-05 2026 Coleby Y6 Derbyshire 19-05-2026 GBA 20-05-26 PGL Caythorpe
B45: HALF TERM | C45: 46167
A46: JUNE | B46: 33 | C46: 46174 | F46: Review Academy Improvement process for 2026/2027 | H46: Gipsey Bridge Academy 02-06-2026 9.30am-12.00pm + Assembly | I46: Core Services - Boston - 01-06-2026 9.30am-12.00pm | J46: Reading x2 | N46: Multiplication Check | O46: Year 4 and Year 5 02-06-2026 | P46: Year 4 and Year 5 04.06.26
B47: 34 | C47: 46181 | F47: Trust Development and Academy Improvement work | G47: HT ALL DAY Tues Deps ALL DAY Thurs | H47: Spilsby Primary Academy - 11-06-2026 - 9.30am-12.00pm + Assembly | I47: Exec Team - Lincoln - 08-06-2026 9.30am-12.00pm | J47: Reading x1 | L47: SEND - 10-06-2026 - LEARN SEND HUB | N47: Phonics Screen/ Multiplication Check | O47: Year 6 08-06-2026 All day | P47: Year 6 12-06-2026 All day
B49: 35 | C49: 46188 | E49: Assessment Week 15-06-2025 | F49: Trust Development and Academy Improvement work | H49: Haxey CE Primary Academy 18-06-2026 9.30am-12.00pm + Assembly | I49: Education Team Exec Team Meeting - Lincoln - 15-06-2026 9.30am-12.00pm | J49: Reading x3 | Q49: Site Staff Meeting 19-06-2025 9:30-12.00 (LGA) | U49: FAR Committee (Budget) 15-06-2026 6.00-7.30pm
B52: 36 | C52: 46195 | E52: Assessment Week 22-06-2025 | F52: Trust Development and Academy Improvement work | H52: Long Bennington CE Primary Academy 25-06-2026 - 9.30am-12.00pm + Assembly Hold for Allington with Sedgebrook CE Primary School 25-06-2026 - 1.30pm - 3.00pm + Assembly | I52: Exec Team - Boston - 22-06-2026 9.30am - 12.00pm | J52: Reading x3
B53: 37 | C53: 46202 | E53: Marking | F53: Impact Visits and Academy Improvement work | H53: West Butterwick CE Primary Academy 02-07-2026 9.30am-12.00pm + Assembly | I53: Core Services - Boston - 29-06-2026 9.30am-12.00pm | J53: Reading x3 | R53: PBE Y6 PGL 06-08 -07-2026 STN Y4& Y6 PGL 29-06-2026
A54: JULY | B54: 38 | C54: 46209 | E54: INSIGHT / Pupil Progress | F54: Impact Visits and Academy Improvement work | G54: HT/Deps Call Tues 9.30 - 10.30am | H54: St Nicholas CE Primary Academy 08-07-2026 9.30am-12.00pm + Assembly | I54: Exec Team - Lincoln - 06-07-2026 9.30am-12.00pm | W54: Visioning Day and Trustee Meeting (inc. Chairs Election) 10-07-2026
B55: 39 | C55: 46216 | E55: Data Dashboard HT / ED Moderation | F55: Impact Visits and Academy Improvement work | I55: Education Team Exec Team Meeting - Lincoln - 13-07-2026 9.30am-12.00pm | S55: Summer Chairs Meeting 16-07-2025 18:00 - 19:30
B56: 40 | C56: 46223 | I56: Exec Team - Boston - 20-07-2026 9.30am - 12.00pm
B57: SUMMER BREAK | C57: 46230
A58: AUGUST | C58: 46237
C59: 46244
C60: 46251
C61: 46258

Sheet Sheet1

Sheet Calendar 2
A1: =Calendar!A1 -> 2025-26 | B1: =Calendar!B1 -> INFINITY ACADEMIC CALENDAR V1
B2: =Calendar!A3 -> SEPTEMBER | F2: =Calendar!A8 -> 0 | J2: =Calendar!A13 -> 0 | O2: =Calendar!A18 -> DECEMBER | S2: =Calendar!#REF! -> #REF! | X2: =Calendar!A28 -> FEBRUARY | AB2: =Calendar!A32 -> MARCH | AF2: =Calendar!A38 -> APRIL | AJ2: =Calendar!#REF! -> #REF! | AN2: =Calendar!#REF! -> #REF! | AS2: =Calendar!A53 -> 0 | AW2: =Calendar!#REF! -> #REF!
A3: =Calendar!B2 -> WEEK NO | B3: =Calendar!B3 -> 1 | C3: =Calendar!B4 -> 2 | D3: =Calendar!B5 -> 3 | E3: =Calendar!B6 -> 4 | F3: =Calendar!B7 -> 5 | G3: =Calendar!B9 -> 6 | H3: =Calendar!B11 -> 7 | I3: =Calendar!B12 -> 8 | J3: =Calendar!B13 -> HALF TERM | K3: =Calendar!B14 -> 9 | L3: =Calendar!B15 -> 10 | M3: =Calendar!B16 -> 11 | N3: =Calendar!B17 -> 12 | O3: =Calendar!B18 -> 13 | P3: =Calendar!B19 -> 14 | Q3: =Calendar!#REF! -> #REF! | S3: =Calendar!#REF! -> #REF! | T3: =Calendar!B24 -> 17 | U3: =Calendar!B25 -> 18 | V3: =Calendar!B26 -> 19 | W3: =Calendar!B28 -> 20 | X3: =Calendar!B29 -> 21 | Y3: HALF TERM | Z3: =Calendar!B31 -> 22 | AA3: =Calendar!B32 -> 23 | AB3: =Calendar!B33 -> 24 | AC3: =Calendar!B34 -> 25 | AD3: =Calendar!B35 -> 26 | AE3: =Calendar!B37 -> 27 | AF3: =Calendar!B38 -> EASTER | AH3: =Calendar!B40 -> 28 | AI3: =Calendar!B41 -> 29 | AJ3: =Calendar!#REF! -> #REF! | AK3: =Calendar!B43 -> 31 | AL3: =Calendar!B44 -> 32 | AM3: =Calendar!B46 -> 33 | AN3: =Calendar!#REF! -> #REF! | AO3: =Calendar!B47 -> 34 | AP3: =Calendar!B49 -> 35 | AQ3: =Calendar!B52 -> 36 | AR3: =Calendar!B53 -> 37 | AS3: =Calendar!#REF! -> #REF! | AT3: =Calendar!B55 -> 39 | AU3: =Calendar!B56 -> 40 | AV3: SUMMER BREAK
A4: =Calendar!C2 -> W/C | B4: =Calendar!C3 -> 45901 | C4: =Calendar!C4 -> 45908 | D4: =Calendar!C5 -> 45915 | E4: =Calendar!C6 -> 45922 | F4: =Calendar!C7 -> 45929 | G4: =Calendar!#REF! -> #REF! | H4: =Calendar!C11 -> 45943 | J4: =Calendar!C13 -> 45957 | K4: =Calendar!C14 -> 45964 | L4: =Calendar!C15 -> 45971 | M4: =Calendar!C16 -> 45978 | N4: =Calendar!C17 -> 45985 | O4: =Calendar!C18 -> 45992 | P4: =Calendar!C19 -> 45999 | S4: =Calendar!#REF! -> #REF! | T4: =Calendar!C24 -> 46034 | U4: =Calendar!C25 -> 46041 | V4: =Calendar!C26 -> 46048 | W4: =Calendar!C28 -> 46055 | X4: =Calendar!C29 -> 46062 | Z4: =Calendar!C31 -> 46076 | AA4: =Calendar!C32 -> 46083 | AB4: =Calendar!C33 -> 46090 | AC4: =Calendar!C34 -> 46097 | AD4: =Calendar!C35 -> 46104 | AE4: =Calendar!C37 -> 46111 | AH4: =Calendar!C40 -> 46132 | AI4: =Calendar!C41 -> 46139 | AJ4: =Calendar!#REF! -> #REF! | AK4: =Calendar!C43 -> 46153 | AL4: =Calendar!C44 -> 46160 | AM4: =Calendar!C46 -> 46174 | AO4: =Calendar!C47 -> 46181 | AP4: =Calendar!C49 -> 46188 | AQ4: =Calendar!C52 -> 46195 | AR4: =Calendar!C53 -> 46202 | AS4: =Calendar!#REF! -> #REF! | AT4: =Calendar!C55 -> 46216 | AU4: =Calendar!C56 -> 46223
A5: =Calendar!D2 -> Trust Wide Events | B5: =Calendar!D3 -> INSET day 02-09-2025 (Conference) & 03-09-2025 | C5: =Calendar!D4 -> 0 | D5: =Calendar!D5 -> 0 | E5: =Calendar!D6 -> 0 | F5: =Calendar!D8 -> 0 | G5: =Calendar!D9 -> 0 | H5: =Calendar!D11 -> 0 | J5: =Calendar!D13 -> 0 | K5: =Calendar!D14 -> Whole Trust Subject PDM (Teams) 05-11-2025 - 15:45 - 16:45 | L5: =Calendar!D15 -> Standards Committtee | M5: =Calendar!D16 -> 0 | N5: =Calendar!D17 -> 0 | O5: =Calendar!D18 -> 0 | P5: =Calendar!#REF! -> #REF! | S5: =Calendar!#REF! -> #REF! | T5: =Calendar!D24 -> 0 | U5: =Calendar!D25 -> 0 | V5: =Calendar!D26 -> Standards Committtee | W5: =Calendar!D28 -> 0 | X5: =Calendar!D29 -> 0 | Z5: =Calendar!D31 -> 0 | AA5: =Calendar!D32 -> 0 | AB5: =Calendar!#REF! -> #REF! | AC5: =Calendar!#REF! -> #REF! | AD5: =Calendar!D35 -> 0 | AE5: =Calendar!#REF! -> #REF! | AH5: =Calendar!D40 -> 20-04-2026 Inset Day - TA Conference | AI5: =Calendar!D41 -> Whole Trust Subject PDM (Teams) 29-04-2026 15:45-16:45 | AJ5: =Calendar!D42 -> 0 | AK5: =Calendar!D43 -> 0 | AL5: =Calendar!D44 -> 0 | AM5: =Calendar!#REF! -> #REF! | AO5: =Calendar!D47 -> 0 | AP5: =Calendar!D49 -> 0 | AQ5: =Calendar!#REF! -> #REF! | AR5: =Calendar!D53 -> 0 | AS5: =Calendar!D54 -> 0 | AT5: =Calendar!#REF! -> #REF! | AU5: =Calendar!D56 -> 0
A6: =Calendar!E2 -> Assessment | B6: =Calendar!E3 -> SSC Report Writing | C6: =Calendar!E4 -> CEO Review | D6: =Calendar!E5 -> Week for Reports | E6: =Calendar!E6 -> SSc | F6: =Calendar!E7 -> 0 | G6: =Calendar!E9 -> 0 | H6: =Calendar!E11 -> EYFS Baseline on Insight | J6: =Calendar!E13 -> 0 | K6: =Calendar!E14 -> 0 | L6: =Calendar!E15 -> Assessment Week | M6: =Calendar!E16 -> Assessment Week | N6: =Calendar!E18 -> INSIGHT / Pupil Progress | O6: =Calendar!#REF! -> #REF! | P6: =Calendar!E19 -> Data Dashboard HT / ED Moderation | S6: =Calendar!#REF! -> #REF! | T6: =Calendar!E24 -> CEO Review | U6: =Calendar!E25 -> Papers | V6: =Calendar!E26 -> SSC | W6: =Calendar!#REF! -> #REF! | X6: =Calendar!#REF! -> #REF! | Z6: =Calendar!E28 -> Assessment Week | AA6: =Calendar!#REF! -> #REF! | AB6: =Calendar!E33 -> Data Dashboard HT / ED Moderation | AC6: =Calendar!#REF! -> #REF! | AD6: =Calendar!E35 -> SSc Report Writing | AE6: =Calendar!#REF! -> #REF! | AH6: =Calendar!E40 -> Week for Reports | AI6: =Calendar!E41 -> SSC | AJ6: =Calendar!E42 -> 0 | AK6: =Calendar!E43 -> 0 | AL6: =Calendar!E44 -> Heads/Ops Assessment data input - 19-05-2026 Teams - recap/discussion (Teams) 13:00-13:30 | AM6: =Calendar!#REF! -> #REF! | AO6: =Calendar!E52 -> Assessment Week 22-06-2025 | AP6: =Calendar!E54 -> INSIGHT / Pupil Progress | AQ6: =Calendar!E55 -> Data Dashboard HT / ED Moderation | AR6: =Calendar!#REF! -> #REF! | AS6: =Calendar!#REF! -> #REF! | AT6: =Calendar!#REF! -> #REF! | AU6: =Calendar!E56 -> 0
A7: =Calendar!F2 -> School Improvement Cycle | B7: =Calendar!F3 -> Trust Development work | C7: =Calendar!F4 -> Strategy Visits and Academy Improvement work | D7: =Calendar!F5 -> Strategy Visits and Academy Improvement work | E7: =Calendar!F6 -> Strategy Visits and Academy Improvement work | F7: =Calendar!F7 -> Strategy Visits and Academy Improvement work | G7: =Calendar!F9 -> HT Appraisal and Academy Improvement work | H7: =Calendar!F11 -> HT Appraisal and Academy Improvement work | J7: =Calendar!F13 -> 0 | K7: =Calendar!F14 -> Trust Development and Academy Improvement work | L7: =Calendar!F16 -> Trust Development and Academy Improvement work | M7: =Calendar!F17 -> Trust Development and Academy Improvement work | N7: =Calendar!F18 -> Trust Development and Academy Improvement work | O7: =Calendar!#REF! -> #REF! | P7: =Calendar!#REF! -> #REF! | S7: =Calendar!#REF! -> #REF! | T7: =Calendar!#REF! -> #REF! | U7: =Calendar!F24 -> Impact Visits and Academy Improvement work | V7: =Calendar!F25 -> Impact Visits and Academy Improvement work | W7: =Calendar!F28 -> Strategy Visits and Academy Improvement work | X7: =Calendar!F29 -> Strategy Visits and Academy Improvement work | Z7: =Calendar!F26 -> Strategy Visits and Academy Improvement work | AA7: =Calendar!F32 -> HT mid cycle Appraisal and Academy Improvement work | AB7: =Calendar!F33 -> Moderation of Data and Academy Improvement work | AC7: =Calendar!#REF! -> #REF! | AD7: =Calendar!F35 -> Impact Visits and Academy Improvement work | AE7: =Calendar!F37 -> Impact Visits and Academy Improvement work | AH7: =Calendar!F40 -> Strategy Visits and Academy Improvement work | AI7: =Calendar!F41 -> Strategy Visits and Academy Improvement work | AJ7: =Calendar!#REF! -> #REF! | AK7: =Calendar!F43 -> KS2 SATs monitoring | AL7: =Calendar!F44 -> Review Academy Improvement process for 2026/2027 | AM7: =Calendar!F46 -> Review Academy Improvement process for 2026/2027 | AO7: =Calendar!F47 -> Trust Development and Academy Improvement work | AP7: =Calendar!F49 -> Trust Development and Academy Improvement work | AQ7: =Calendar!F52 -> Trust Development and Academy Improvement work | AR7: =Calendar!#REF! -> #REF! | AS7: =Calendar!#REF! -> #REF! | AT7: =Calendar!F53 -> Impact Visits and Academy Improvement work | AU7: =Calendar!F56 -> 0
A8: =Calendar!#REF! -> #REF! | B8: =Calendar!#REF! -> #REF! | C8: =Calendar!#REF! -> #REF! | D8: =Calendar!#REF! -> #REF! | E8: =Calendar!#REF! -> #REF! | F8: =Calendar!#REF! -> #REF! | G8: =Calendar!#REF! -> #REF! | H8: =Calendar!#REF! -> #REF! | J8: =Calendar!#REF! -> #REF! | K8: =Calendar!#REF! -> #REF! | L8: =Calendar!#REF! -> #REF! | M8: =Calendar!#REF! -> #REF! | N8: =Calendar!#REF! -> #REF! | O8: =Calendar!#REF! -> #REF! | P8: =Calendar!#REF! -> #REF! | S8: =Calendar!#REF! -> #REF! | T8: =Calendar!#REF! -> #REF! | U8: =Calendar!#REF! -> #REF! | V8: =Calendar!#REF! -> #REF! | W8: =Calendar!#REF! -> #REF! | X8: =Calendar!#REF! -> #REF! | Z8: =Calendar!#REF! -> #REF! | AA8: =Calendar!#REF! -> #REF! | AB8: =Calendar!#REF! -> #REF! | AC8: =Calendar!#REF! -> #REF! | AD8: =Calendar!#REF! -> #REF! | AE8: =Calendar!#REF! -> #REF! | AH8: =Calendar!#REF! -> #REF! | AI8: =Calendar!#REF! -> #REF! | AJ8: =Calendar!#REF! -> #REF! | AK8: =Calendar!#REF! -> #REF! | AL8: =Calendar!#REF! -> #REF! | AM8: =Calendar!#REF! -> #REF! | AO8: =Calendar!#REF! -> #REF! | AP8: =Calendar!#REF! -> #REF! | AQ8: =Calendar!#REF! -> #REF! | AR8: =Calendar!#REF! -> #REF! | AS8: =Calendar!#REF! -> #REF! | AT8: =Calendar!#REF! -> #REF! | AU8: =Calendar!#REF! -> #REF!
A9: =Calendar!#REF! -> #REF! | B9: =Calendar!#REF! -> #REF! | C9: =Calendar!#REF! -> #REF! | D9: =Calendar!#REF! -> #REF! | E9: =Calendar!#REF! -> #REF! | F9: =Calendar!#REF! -> #REF! | G9: =Calendar!#REF! -> #REF! | H9: =Calendar!#REF! -> #REF! | J9: =Calendar!#REF! -> #REF! | K9: =Calendar!#REF! -> #REF! | L9: =Calendar!#REF! -> #REF! | M9: =Calendar!#REF! -> #REF! | N9: =Calendar!#REF! -> #REF! | O9: =Calendar!#REF! -> #REF! | P9: =Calendar!#REF! -> #REF! | S9: =Calendar!#REF! -> #REF! | T9: =Calendar!#REF! -> #REF! | U9: =Calendar!#REF! -> #REF! | V9: =Calendar!#REF! -> #REF! | W9: =Calendar!#REF! -> #REF! | X9: =Calendar!#REF! -> #REF! | Z9: =Calendar!#REF! -> #REF! | AA9: =Calendar!#REF! -> #REF! | AB9: =Calendar!#REF! -> #REF! | AC9: =Calendar!#REF! -> #REF! | AD9: =Calendar!#REF! -> #REF! | AE9: =Calendar!#REF! -> #REF! | AH9: =Calendar!#REF! -> #REF! | AI9: =Calendar!#REF! -> #REF! | AJ9: =Calendar!#REF! -> #REF! | AK9: =Calendar!#REF! -> #REF! | AL9: =Calendar!#REF! -> #REF! | AM9: =Calendar!#REF! -> #REF! | AO9: =Calendar!#REF! -> #REF! | AP9: =Calendar!#REF! -> #REF! | AQ9: =Calendar!#REF! -> #REF! | AR9: =Calendar!#REF! -> #REF! | AS9: =Calendar!#REF! -> #REF! | AT9: =Calendar!#REF! -> #REF! | AU9: =Calendar!#REF! -> #REF!
A10: =Calendar!#REF! -> #REF! | B10: =Calendar!#REF! -> #REF! | C10: =Calendar!#REF! -> #REF! | D10: =Calendar!#REF! -> #REF! | E10: =Calendar!#REF! -> #REF! | F10: =Calendar!#REF! -> #REF! | G10: =Calendar!#REF! -> #REF! | H10: =Calendar!#REF! -> #REF! | J10: =Calendar!#REF! -> #REF! | K10: =Calendar!#REF! -> #REF! | L10: =Calendar!#REF! -> #REF! | M10: =Calendar!#REF! -> #REF! | N10: =Calendar!#REF! -> #REF! | O10: =Calendar!#REF! -> #REF! | P10: =Calendar!#REF! -> #REF! | S10: =Calendar!#REF! -> #REF! | T10: =Calendar!#REF! -> #REF! | U10: =Calendar!#REF! -> #REF! | V10: =Calendar!#REF! -> #REF! | W10: =Calendar!#REF! -> #REF! | X10: =Calendar!#REF! -> #REF! | Z10: =Calendar!#REF! -> #REF! | AA10: =Calendar!#REF! -> #REF! | AB10: =Calendar!#REF! -> #REF! | AC10: =Calendar!#REF! -> #REF! | AD10: =Calendar!#REF! -> #REF! | AE10: =Calendar!#REF! -> #REF! | AH10: =Calendar!#REF! -> #REF! | AI10: =Calendar!#REF! -> #REF! | AJ10: =Calendar!#REF! -> #REF! | AK10: =Calendar!#REF! -> #REF! | AL10: =Calendar!#REF! -> #REF! | AM10: =Calendar!#REF! -> #REF! | AO10: =Calendar!#REF! -> #REF! | AP10: =Calendar!#REF! -> #REF! | AQ10: =Calendar!#REF! -> #REF! | AR10: =Calendar!#REF! -> #REF! | AS10: =Calendar!#REF! -> #REF! | AT10: =Calendar!#REF! -> #REF! | AU10: =Calendar!#REF! -> #REF!
A11: =Calendar!Q2 -> Site | B11: =Calendar!Q3 -> 0 | C11: =Calendar!Q4 -> 0 | D11: =Calendar!Q5 -> 0 | E11: =Calendar!Q6 -> 0 | F11: =Calendar!Q8 -> 0 | G11: =Calendar!Q9 -> 0 | H11: =Calendar!Q11 -> 0 | J11: =Calendar!#REF! -> #REF! | K11: =Calendar!Q14 -> 0 | L11: =Calendar!Q15 -> 0 | M11: =Calendar!Q16 -> Site Staff Meeting 19-11-2024 9:30-12.00 (HQ) Cancelled | N11: =Calendar!Q17 -> 0 | O11: =Calendar!Q18 -> 0 | P11: =Calendar!#REF! -> #REF! | S11: =Calendar!#REF! -> #REF! | T11: =Calendar!Q24 -> 0 | U11: =Calendar!Q25 -> 0 | V11: =Calendar!Q26 -> 0 | W11: =Calendar!Q28 -> 0 | X11: =Calendar!#REF! -> #REF! | Z11: =Calendar!Q31 -> 0 | AA11: =Calendar!Q32 -> Site Staff Meeting 04-03-2025 9:30-12.00 (LGA) | AB11: =Calendar!Q33 -> 0 | AC11: =Calendar!#REF! -> #REF! | AD11: =Calendar!Q35 -> 0 | AE11: =Calendar!#REF! -> #REF! | AH11: =Calendar!Q40 -> 0 | AI11: =Calendar!Q41 -> 0 | AJ11: =Calendar!Q42 -> 0 | AK11: =Calendar!Q43 -> 0 | AL11: =Calendar!Q44 -> 0 | AM11: =Calendar!#REF! -> #REF! | AO11: =Calendar!Q47 -> 0 | AP11: =Calendar!Q49 -> Site Staff Meeting 19-06-2025 9:30-12.00 (LGA) | AQ11: =Calendar!#REF! -> #REF! | AR11: =Calendar!Q53 -> 0 | AS11: =Calendar!Q54 -> 0 | AT11: =Calendar!#REF! -> #REF! | AU11: =Calendar!Q56 -> 0
A12: =Calendar!S2 -> AMC Activity | B12: =Calendar!S3 -> 0 | C12: =Calendar!#REF! -> #REF! | D12: =Calendar!S5 -> Autumn IGM 18-09-2025 6.00pm | E12: =Calendar!S6 -> 0 | F12: =Calendar!S8 -> 0 | G12: =Calendar!S9 -> Individual School Briefing Meeting | H12: =Calendar!S4 -> Summer AMC Chairs 11-09-2025 6.00pm | J12: =Calendar!S13 -> 0 | K12: =Calendar!S14 -> 0 | L12: =Calendar!S15 -> 0 | M12: =Calendar!S16 -> 0 | N12: =Calendar!S17 -> 0 | O12: =Calendar!S18 -> 0 | P12: =Calendar!S19 -> Autumn Chairs Meeting 11-12-2024 6pm | S12: =Calendar!#REF! -> #REF! | T12: =Calendar!S24 -> 0 | U12: =Calendar!S25 -> Spring IGM 21-01-2025 6.00-7.30pm | V12: =Calendar!S26 -> 0 | W12: =Calendar!S28 -> 0 | X12: =Calendar!S29 -> Individual School Briefing Meeting | Z12: =Calendar!S31 -> Individual School Briefing Meeting | AA12: =Calendar!S32 -> 0 | AB12: =Calendar!#REF! -> #REF! | AC12: =Calendar!S34 -> 0 | AD12: =Calendar!S35 -> Spring Chairs Meeting 26-03-2025 | AE12: =Calendar!S37 -> 0 | AH12: =Calendar!S40 -> 0 | AI12: =Calendar!S42 -> Summer IGM 06-05-2026 | AJ12: =Calendar!#REF! -> #REF! | AK12: =Calendar!S43 -> 0 | AL12: =Calendar!S44 -> 0 | AM12: =Calendar!#REF! -> #REF! | AO12: =Calendar!S47 -> 0 | AP12: =Calendar!S54 -> 0 | AQ12: =Calendar!#REF! -> #REF! | AR12: =Calendar!T53 -> 0 | AS12: =Calendar!#REF! -> #REF! | AT12: =Calendar!#REF! -> #REF! | AU12: =Calendar!S56 -> 0
A13: =Calendar!U2 -> FAR | B13: =Calendar!U3 -> 0 | C13: =Calendar!U4 -> 0 | D13: =Calendar!U5 -> 0 | E13: =Calendar!U6 -> 0 | F13: =Calendar!U8 -> 0 | G13: =Calendar!U9 -> 0 | H13: =Calendar!U11 -> 0 | J13: =Calendar!U13 -> 0 | K13: =Calendar!U14 -> 0 | L13: =Calendar!U15 -> 0 | M13: =Calendar!U16 -> 0 | N13: =Calendar!U17 -> FAR Committee 25-11-2025 6.00-7.30pm | O13: =Calendar!U18 -> 0 | P13: =Calendar!#REF! -> #REF! | S13: =Calendar!#REF! -> #REF! | T13: =Calendar!U24 -> 0 | U13: =Calendar!U25 -> 0 | V13: =Calendar!U26 -> 0 | W13: =Calendar!U28 -> 0 | X13: =Calendar!#REF! -> #REF! | Z13: =Calendar!U31 -> 0 | AA13: =Calendar!U33 -> FAR Committee 10-03-2026 6.00-7.30pm | AB13: =Calendar!#REF! -> #REF! | AC13: =Calendar!#REF! -> #REF! | AD13: =Calendar!T35 -> 0 | AE13: =Calendar!#REF! -> #REF! | AH13: =Calendar!U40 -> 0 | AI13: =Calendar!U41 -> 0 | AJ13: =Calendar!U42 -> 0 | AK13: =Calendar!U43 -> 0 | AL13: =Calendar!U44 -> 0 | AM13: =Calendar!#REF! -> #REF! | AO13: =Calendar!U47 -> 0 | AP13: =Calendar!U49 -> FAR Committee (Budget) 15-06-2026 6.00-7.30pm | AQ13: =Calendar!U52 -> 0 | AR13: =Calendar!U53 -> 0 | AS13: =Calendar!U54 -> 0 | AT13: =Calendar!#REF! -> #REF! | AU13: =Calendar!U56 -> 0
A14: =Calendar!V2 -> SSC | B14: =Calendar!V3 -> 0 | C14: =Calendar!V4 -> 0 | D14: =Calendar!V5 -> 0 | E14: =Calendar!V6 -> SSC (Data) 24-09-2025 | F14: =Calendar!V8 -> 0 | G14: =Calendar!V9 -> 0 | H14: =Calendar!V11 -> 0 | J14: =Calendar!V13 -> 0 | K14: =Calendar!V14 -> 0 | L14: =Calendar!V15 -> 0 | M14: =Calendar!V16 -> 0 | N14: =Calendar!V17 -> 0 | O14: =Calendar!V18 -> 0 | P14: =Calendar!#REF! -> #REF! | S14: =Calendar!#REF! -> #REF! | T14: =Calendar!V24 -> 0 | U14: =Calendar!V25 -> 0 | V14: =Calendar!V26 -> SSC 29-01-2026 | W14: =Calendar!V28 -> 0 | X14: =Calendar!#REF! -> #REF! | Z14: =Calendar!V31 -> 0 | AA14: =Calendar!V32 -> 0 | AB14: =Calendar!#REF! -> #REF! | AC14: =Calendar!#REF! -> #REF! | AD14: =Calendar!V35 -> 0 | AE14: =Calendar!#REF! -> #REF! | AH14: =Calendar!#REF! -> #REF! | AI14: =Calendar!V41 -> SSC- 30-04-2026 | AJ14: =Calendar!V44 -> 0 | AK14: =Calendar!V43 -> 0 | AL14: =Calendar!#REF! -> #REF! | AM14: =Calendar!#REF! -> #REF! | AO14: =Calendar!V47 -> 0 | AP14: =Calendar!V49 -> 0 | AQ14: =Calendar!#REF! -> #REF! | AR14: =Calendar!V53 -> 0 | AS14: =Calendar!V54 -> 0 | AT14: =Calendar!#REF! -> #REF! | AU14: =Calendar!V56 -> 0
A15: =Calendar!W2 -> Trustee | B15: =Calendar!W3 -> 0 | C15: =Calendar!W4 -> 0 | D15: =Calendar!W6 -> 0 | E15: =Calendar!#REF! -> #REF! | F15: =Calendar!W8 -> 0 | G15: =Calendar!W9 -> 0 | H15: =Calendar!W11 -> 0 | J15: =Calendar!W13 -> 0 | K15: =Calendar!W14 -> 0 | L15: =Calendar!W15 -> 0 | M15: =Calendar!W16 -> 0 | N15: =Calendar!W17 -> 0 | O15: =Calendar!W20 -> AGM and TRUSTEE 16-12-2025 | P15: =Calendar!#REF! -> #REF! | S15: =Calendar!#REF! -> #REF! | T15: =Calendar!W24 -> 0 | U15: =Calendar!#REF! -> #REF! | V15: =Calendar!W26 -> 0 | W15: =Calendar!W28 -> 0 | X15: =Calendar!W25 -> Members AGM 20-01-2025 17:30-18:30 | Z15: =Calendar!W31 -> 0 | AA15: =Calendar!W32 -> 0 | AB15: =Calendar!W33 -> 0 | AC15: =Calendar!W34 -> 0 | AD15: =Calendar!W35 -> 0 | AE15: =Calendar!#REF! -> #REF! | AH15: =Calendar!W40 -> 0 | AI15: =Calendar!W41 -> 0 | AJ15: =Calendar!W42 -> 0 | AK15: =Calendar!W43 -> 0 | AL15: =Calendar!L44 -> 0 | AM15: =Calendar!#REF! -> #REF! | AO15: =Calendar!W47 -> 0 | AP15: =Calendar!W49 -> 0 | AQ15: =Calendar!#REF! -> #REF! | AR15: =Calendar!W53 -> 0 | AS15: =Calendar!W54 -> Visioning Day and Trustee Meeting (inc. Chairs Election) 10-07-2026 | AT15: =Calendar!W55 -> 0 | AU15: =Calendar!W56 -> 0
A16: =Calendar!L2 -> Network Meeting Lincoln | B16: =Calendar!#REF! -> #REF! | C16: =Calendar!#REF! -> #REF! | D16: =Calendar!L8 -> 0 | E16: =Calendar!#REF! -> #REF! | F16: =Calendar!L4 -> Maths Network - 08-09-2025 Lincoln | G16: =Calendar!L6 -> Reading network - 24-09-2025 Lincoln | H16: =Calendar!L11 -> 0 | J16: =Calendar!#REF! -> #REF! | K16: =Calendar!L14 -> 0 | L16: =Calendar!L18 -> 0 | M16: =Calendar!L16 -> 0 | N16: =Calendar!#REF! -> #REF! | O16: =Calendar!#REF! -> #REF! | P16: =Calendar!L19 -> 0 | S16: =Calendar!#REF! -> #REF! | T16: =Calendar!L24 -> 0 | U16: =Calendar!L25 -> Writing network - 20-01-2026 Lincoln | V16: =Calendar!L26 -> Reading network - 27-01-2026 Lincoln | W16: =Calendar!L28 -> Maths network - 03-02-2026 Lincoln | X16: =Calendar!L29 -> 0 | Z16: =Calendar!L31 -> 0 | AA16: =Calendar!#REF! -> #REF! | AB16: =Calendar!#REF! -> #REF! | AC16: =Calendar!#REF! -> #REF! | AD16: =Calendar!#REF! -> #REF! | AE16: =Calendar!L37 -> Reading network 31.3.26 Teams 15.30-16.30 | AH16: =Calendar!#REF! -> #REF! | AI16: =Calendar!L41 -> 0 | AJ16: =Calendar!L42 -> Maths network - 05-05-2026 Teams 15.30 - 16.30 | AK16: =Calendar!L43 -> 0 | AL16: =Calendar!#REF! -> #REF! | AM16: =Calendar!#REF! -> #REF! | AO16: =Calendar!#REF! -> #REF! | AP16: =Calendar!L49 -> 0 | AQ16: =Calendar!L53 -> 0 | AR16: =Calendar!#REF! -> #REF! | AS16: =Calendar!L54 -> 0 | AT16: =Calendar!#REF! -> #REF! | AU16: =Calendar!L56 -> 0
A17: =Calendar!#REF! -> #REF! | B17: =Calendar!#REF! -> #REF! | C17: =Calendar!#REF! -> #REF! | D17: =Calendar!#REF! -> #REF! | E17: =Calendar!#REF! -> #REF! | F17: =Calendar!#REF! -> #REF! | G17: =Calendar!#REF! -> #REF! | H17: =Calendar!#REF! -> #REF! | J17: =Calendar!#REF! -> #REF! | K17: =Calendar!#REF! -> #REF! | L17: =Calendar!#REF! -> #REF! | M17: =Calendar!#REF! -> #REF! | N17: =Calendar!#REF! -> #REF! | O17: =Calendar!#REF! -> #REF! | P17: =Calendar!#REF! -> #REF! | S17: =Calendar!#REF! -> #REF! | T17: =Calendar!#REF! -> #REF! | U17: =Calendar!#REF! -> #REF! | V17: =Calendar!#REF! -> #REF! | W17: =Calendar!#REF! -> #REF! | X17: =Calendar!#REF! -> #REF! | Z17: =Calendar!#REF! -> #REF! | AA17: =Calendar!#REF! -> #REF! | AB17: =Calendar!#REF! -> #REF! | AC17: =Calendar!#REF! -> #REF! | AD17: =Calendar!#REF! -> #REF! | AE17: =Calendar!#REF! -> #REF! | AH17: =Calendar!#REF! -> #REF! | AI17: =Calendar!#REF! -> #REF! | AJ17: =Calendar!#REF! -> #REF! | AK17: =Calendar!#REF! -> #REF! | AL17: =Calendar!#REF! -> #REF! | AM17: =Calendar!#REF! -> #REF! | AO17: =Calendar!#REF! -> #REF! | AP17: =Calendar!#REF! -> #REF! | AQ17: =Calendar!#REF! -> #REF! | AR17: =Calendar!#REF! -> #REF! | AS17: =Calendar!#REF! -> #REF! | AT17: =Calendar!#REF! -> #REF! | AU17: =Calendar!#REF! -> #REF!

Sheet Full Calendar
A1: 2022-23 | B1: INFINITY ACADEMIC CALENDAR V4
B2: WEEK NO | C2: W/C | D2: Monday | E2: Tuesday | F2: Wednesday | G2: Thursday | H2: Friday
A3: SEPTEMBER | B3: 1 | C3: =DATE(2022,9,5) -> 44809 | D3: =C3 -> 44809 | E3: =D3+1 -> 44810 | F3: =E3+1 -> 44811 | G3: =F3+1 -> 44812 | H3: =G3+1 -> 44813
B5: 2 | C5: =DATE(2022,9,12) -> 44816 | D5: =C5 -> 44816 | E5: =D5+1 -> 44817 | F5: =E5+1 -> 44818 | G5: =F5+1 -> 44819 | H5: =G5+1 -> 44820
D6: Baseline Assessments
B7: 3 | C7: =DATE(2022,9,19) -> 44823 | D7: =C7 -> 44823 | E7: =D7+1 -> 44824 | F7: =E7+1 -> 44825 | G7: =F7+1 -> 44826 | H7: =G7+1 -> 44827
B9: 4 | C9: =DATE(2022,9,26) -> 44830 | D9: =C9 -> 44830 | E9: =D9+1 -> 44831 | F9: =E9+1 -> 44832 | G9: =F9+1 -> 44833 | H9: =G9+1 -> 44834
A11: OCTOBER | B11: 5 | C11: =DATE(2022,10,3) -> 44837 | D11: =C11 -> 44837 | E11: =D11+1 -> 44838 | F11: =E11+1 -> 44839 | G11: =F11+1 -> 44840 | H11: =G11+1 -> 44841
B13: 6 | C13: =DATE(2022,10,10) -> 44844 | D13: =C13 -> 44844 | E13: =D13+1 -> 44845 | F13: =E13+1 -> 44846 | G13: =F13+1 -> 44847 | H13: =G13+1 -> 44848
B15: 7 | C15: =DATE(2022,10,17) -> 44851 | D15: =C15 -> 44851 | E15: =D15+1 -> 44852 | F15: =E15+1 -> 44853 | G15: =F15+1 -> 44854 | H15: =G15+1 -> 44855
B17: HALF TERM
A18: NOVEMBER | B18: 8 | C18: =DATE(2022,10,31) -> 44865 | D18: =C18 -> 44865 | E18: =D18+1 -> 44866 | F18: =E18+1 -> 44867 | G18: =F18+1 -> 44868 | H18: =G18+1 -> 44869
B20: 9 | C20: =C18+7 -> 44872 | D20: =C20 -> 44872 | E20: =D20+1 -> 44873 | F20: =E20+1 -> 44874 | G20: =F20+1 -> 44875 | H20: =G20+1 -> 44876
B22: 10 | C22: =C20+7 -> 44879 | D22: =C22 -> 44879 | E22: =D22+1 -> 44880 | F22: =E22+1 -> 44881 | G22: =F22+1 -> 44882 | H22: =G22+1 -> 44883
B24: 11 | C24: =C22+7 -> 44886 | D24: =C24 -> 44886 | E24: =D24+1 -> 44887 | F24: =E24+1 -> 44888 | G24: =F24+1 -> 44889 | H24: =G24+1 -> 44890
B26: 12 | C26: =C24+7 -> 44893 | D26: =C26 -> 44893 | E26: =D26+1 -> 44894 | F26: =E26+1 -> 44895 | G26: =F26+1 -> 44896 | H26: =G26+1 -> 44897
A28: DECEMBER | B28: 13 | C28: =C26+7 -> 44900 | D28: =C28 -> 44900 | E28: =D28+1 -> 44901 | F28: =E28+1 -> 44902 | G28: =F28+1 -> 44903 | H28: =G28+1 -> 44904
B30: 14 | C30: =C28+7 -> 44907 | D30: =C30 -> 44907 | E30: =D30+1 -> 44908 | F30: =E30+1 -> 44909 | G30: =F30+1 -> 44910 | H30: =G30+1 -> 44911
B32: CHRISTMAS BREAK
A34: JANUARY | B34: 15 | C34: =DATE(2023,1,2) -> 44928 | D34: =C34 -> 44928 | E34: =D34+1 -> 44929 | F34: =E34+1 -> 44930 | G34: =F34+1 -> 44931 | H34: =G34+1 -> 44932
B36: 16 | C36: =C34+7 -> 44935 | D36: =C36 -> 44935 | E36: =D36+1 -> 44936 | F36: =E36+1 -> 44937 | G36: =F36+1 -> 44938 | H36: =G36+1 -> 44939
B38: 17 | C38: =C36+7 -> 44942 | D38: =C38 -> 44942 | E38: =D38+1 -> 44943 | F38: =E38+1 -> 44944 | G38: =F38+1 -> 44945 | H38: =G38+1 -> 44946
B40: 18 | C40: =C38+7 -> 44949 | D40: =C40 -> 44949 | E40: =D40+1 -> 44950 | F40: =E40+1 -> 44951 | G40: =F40+1 -> 44952 | H40: =G40+1 -> 44953
B42: 19 | C42: =C40+7 -> 44956 | D42: =C42 -> 44956 | E42: =D42+1 -> 44957 | F42: =E42+1 -> 44958 | G42: =F42+1 -> 44959 | H42: =G42+1 -> 44960
A44: FEBRUARY | B44: 20 | C44: =C42+7 -> 44963 | D44: =C44 -> 44963 | E44: =D44+1 -> 44964 | F44: =E44+1 -> 44965 | G44: =F44+1 -> 44966 | H44: =G44+1 -> 44967
B46: HALF TERM
B47: 21 | C47: =DATE(2023,2,20) -> 44977 | D47: =C47 -> 44977 | E47: =D47+1 -> 44978 | F47: =E47+1 -> 44979 | G47: =F47+1 -> 44980 | H47: =G47+1 -> 44981
B49: 22 | C49: =C47+7 -> 44984 | D49: =C49 -> 44984 | E49: =D49+1 -> 44985 | F49: =E49+1 -> 44986 | G49: =F49+1 -> 44987 | H49: =G49+1 -> 44988
A51: MARCH | B51: 23 | C51: =C49+7 -> 44991 | D51: =C51 -> 44991 | E51: =D51+1 -> 44992 | F51: =E51+1 -> 44993 | G51: =F51+1 -> 44994 | H51: =G51+1 -> 44995
B53: 24 | C53: =C51+7 -> 44998 | D53: =C53 -> 44998 | E53: =D53+1 -> 44999 | F53: =E53+1 -> 45000 | G53: =F53+1 -> 45001 | H53: =G53+1 -> 45002
B55: 25 | C55: =C53+7 -> 45005 | D55: =C55 -> 45005 | E55: =D55+1 -> 45006 | F55: =E55+1 -> 45007 | G55: =F55+1 -> 45008 | H55: =G55+1 -> 45009
B57: 26 | C57: =C55+7 -> 45012 | D57: =C57 -> 45012 | E57: =D57+1 -> 45013 | F57: =E57+1 -> 45014 | G57: =F57+1 -> 45015 | H57: =G57+1 -> 45016
A59: APRIL | B59: EASTER HOLIDAYS
B61: 27 | C61: =DATE(2023,4,17) -> 45033 | D61: =C61 -> 45033 | E61: =D61+1 -> 45034 | F61: =E61+1 -> 45035 | G61: =F61+1 -> 45036 | H61: =G61+1 -> 45037
B63: 28 | C63: =C61+7 -> 45040 | D63: =C63 -> 45040 | E63: =D63+1 -> 45041 | F63: =E63+1 -> 45042 | G63: =F63+1 -> 45043 | H63: =G63+1 -> 45044
A65: MAY | B65: 29 | C65: =C63+7 -> 45047 | D65: =C65 -> 45047 | E65: =D65+1 -> 45048 | F65: =E65+1 -> 45049 | G65: =F65+1 -> 45050 | H65: =G65+1 -> 45051
B67: 30 | C67: =C65+7 -> 45054 | D67: =C67 -> 45054 | E67: =D67+1 -> 45055 | F67: =E67+1 -> 45056 | G67: =F67+1 -> 45057 | H67: =G67+1 -> 45058
B69: 31 | C69: =C67+7 -> 45061 | D69: =C69 -> 45061 | E69: =D69+1 -> 45062 | F69: =E69+1 -> 45063 | G69: =F69+1 -> 45064 | H69: =G69+1 -> 45065
B71: 32 | C71: =C69+7 -> 45068 | D71: =C71 -> 45068 | E71: =D71+1 -> 45069 | F71: =E71+1 -> 45070 | G71: =F71+1 -> 45071 | H71: =G71+1 -> 45072
A73: JUNE | B73: HALF TERM
B74: 33 | C74: =DATE(2023,6,5) -> 45082 | D74: =C74 -> 45082 | E74: =D74+1 -> 45083 | F74: =E74+1 -> 45084 | G74: =F74+1 -> 45085 | H74: =G74+1 -> 45086
B76: 34 | C76: =C74+7 -> 45089 | D76: =C76 -> 45089 | E76: =D76+1 -> 45090 | F76: =E76+1 -> 45091 | G76: =F76+1 -> 45092 | H76: =G76+1 -> 45093
B78: 35 | C78: =C76+7 -> 45096 | D78: =C78 -> 45096 | E78: =D78+1 -> 45097 | F78: =E78+1 -> 45098 | G78: =F78+1 -> 45099 | H78: =G78+1 -> 45100
B80: 36 | C80: =C78+7 -> 45103 | D80: =C80 -> 45103 | E80: =D80+1 -> 45104 | F80: =E80+1 -> 45105 | G80: =F80+1 -> 45106 | H80: =G80+1 -> 45107
A82: JULY | B82: 37 | C82: =C80+7 -> 45110 | D82: =C82 -> 45110 | E82: =D82+1 -> 45111 | F82: =E82+1 -> 45112 | G82: =F82+1 -> 45113 | H82: =G82+1 -> 45114
B84: 38 | C84: =C82+7 -> 45117 | D84: =C84 -> 45117 | E84: =D84+1 -> 45118 | F84: =E84+1 -> 45119 | G84: =F84+1 -> 45120 | H84: =G84+1 -> 45121
B86: 39 | C86: =C84+7 -> 45124 | D86: =C86 -> 45124 | E86: =D86+1 -> 45125 | F86: =E86+1 -> 45126 | G86: =F86+1 -> 45127 | H86: =G86+1 -> 45128
B88: SUMMER BREAK
A89: AUGUST
